BEGIN:VCALENDAR
PRODID:brasil.gov.agenda
VERSION:1.0
BEGIN:VEVENT
DTSTART:20141205T134500Z
DTEND:20141205T135500Z
DCREATED:20141204T230855Z
UID:Compromisso-cac2d55852154824a28fe8a389533e28
SEQUENCE:0
LAST-MODIFIED:20170328T204809Z
SUMMARY:Fotografia Oficial
LOCATION:Entrada do edifício da Unasul
PRIORITY:3
TRANSP:0
END:VEVENT
END:VCALENDAR
