BEGIN:VCALENDAR
PRODID:brasil.gov.agenda
VERSION:1.0
BEGIN:VEVENT
DTSTART:20141205T134000Z
DTEND:20141205T135000Z
DCREATED:20141204T230752Z
UID:Compromisso-57be26c99cfa4a5e87ca8df27b1b4622
SEQUENCE:0
LAST-MODIFIED:20170328T204809Z
SUMMARY:Inauguração de estátua em homenagem ao ex-Presidente da Nação Argentina e Primeiro Secretário-Geral da Unasul\, Néstor Carlos Kirchner
LOCATION:Entrada do edifício da Unasul
PRIORITY:3
TRANSP:0
END:VEVENT
END:VCALENDAR
