BEGIN:VCALENDAR
PRODID:brasil.gov.agenda
VERSION:1.0
BEGIN:VEVENT
DTSTART:20141205T170000Z
DTEND:20141205T171000Z
DCREATED:20141204T231232Z
UID:Compromisso-3c0a4901ef9a4fd382dab796dab78473
SEQUENCE:0
LAST-MODIFIED:20170328T204810Z
SUMMARY:Partida para Brasília
LOCATION:Aeroporto Internacional Mariscal Sucre
PRIORITY:3
TRANSP:0
END:VEVENT
END:VCALENDAR
