BEGIN:VCALENDAR
PRODID:brasil.gov.agenda
VERSION:1.0
BEGIN:VEVENT
DTSTART:20141205T130500Z
DTEND:20141205T131500Z
DCREATED:20141204T230455Z
UID:Compromisso-e424490b302c44d38cda64b0a078f7ae
SEQUENCE:0
LAST-MODIFIED:20170328T204809Z
SUMMARY:Visita às instalações da sede da Unasul
LOCATION:Sede da Unasul
PRIORITY:3
TRANSP:0
END:VEVENT
END:VCALENDAR
