BEGIN:VCALENDAR
PRODID:brasil.gov.agenda
VERSION:1.0
BEGIN:VEVENT
DTSTART:20141208T180000Z
DTEND:20141208T020000Z
DCREATED:20141208T162229Z
UID:Compromisso-b21662a6ac9943258c454ec245b2f2fc
SEQUENCE:0
LAST-MODIFIED:20170328T204810Z
SUMMARY:Guido Mantega
LOCATION:Palácio do Planalto
PRIORITY:3
TRANSP:0
END:VEVENT
END:VCALENDAR
