BEGIN:VCALENDAR
PRODID:brasil.gov.agenda
VERSION:1.0
BEGIN:VEVENT
DTSTART:20141208T190000Z
DTEND:20141208T191000Z
DCREATED:20141205T225907Z
UID:Compromisso-4cd77a4a94474347aca118612f370652
SEQUENCE:0
LAST-MODIFIED:20170328T204810Z
SUMMARY:Representantes das Centrais Sindicais
LOCATION:Palácio do Planalto
PRIORITY:3
TRANSP:0
END:VEVENT
END:VCALENDAR
