BEGIN:VCALENDAR
PRODID:brasil.gov.agenda
VERSION:1.0
BEGIN:VEVENT
DTSTART:20141209T170000Z
DTEND:20141209T171000Z
DCREATED:20141208T230617Z
UID:Compromisso-49ee74386a3c48739b0c11c39943ea9d
SEQUENCE:0
LAST-MODIFIED:20170328T204811Z
SUMMARY:Alberto Ercílio Broch
LOCATION:Palácio do Planalto
PRIORITY:3
TRANSP:0
END:VEVENT
END:VCALENDAR
