BEGIN:VCALENDAR
PRODID:brasil.gov.agenda
VERSION:1.0
BEGIN:VEVENT
DTSTART:20141210T170000Z
DTEND:20141210T020000Z
DCREATED:20141210T132315Z
UID:Compromisso-25825b6478f948fbbf04cf9e886b48a8
SEQUENCE:0
LAST-MODIFIED:20170328T204811Z
SUMMARY:Cerimônia de Entrega do Prêmio Direitos Humanos 2014
LOCATION:Palácio Itamaraty
PRIORITY:3
TRANSP:0
END:VEVENT
END:VCALENDAR
