BEGIN:VCALENDAR
PRODID:brasil.gov.agenda
VERSION:1.0
BEGIN:VEVENT
DTSTART:20141210T110000Z
DTEND:20141210T111000Z
DCREATED:20141209T233614Z
UID:Compromisso-ce466204b93a48b3874fe5182bed7793
SEQUENCE:0
LAST-MODIFIED:20170328T204811Z
SUMMARY:Entrega do Relatório Final da Comissão Nacional da Verdade
LOCATION:Palácio do Planalto
PRIORITY:3
TRANSP:0
END:VEVENT
END:VCALENDAR
