BEGIN:VCALENDAR
PRODID:brasil.gov.agenda
VERSION:1.0
BEGIN:VEVENT
DTSTART:20141210T120000Z
DTEND:20141210T121000Z
DCREATED:20141209T233826Z
UID:Compromisso-538e6ea7f63a49bf97c0e8a40367abb8
SEQUENCE:0
LAST-MODIFIED:20170328T204811Z
SUMMARY:Sessão Extraordinária de posse dos Ministros Aroldo Cedraz e Raimundo Carreiro\, nos cargos de Presidente e Vice-Presidente do Tribunal de Contas da União (TCU)
LOCATION:TCU - Ed. Sede - térreo - SAFS Q.4 Lote 1
PRIORITY:3
TRANSP:0
END:VEVENT
END:VCALENDAR
