BEGIN:VCALENDAR
PRODID:brasil.gov.agenda
VERSION:1.0
BEGIN:VEVENT
DTSTART:20141212T133000Z
DTEND:20141212T134000Z
DCREATED:20141211T232221Z
UID:Compromisso-a855ab344c6a4b7abb3617a48a609d9d
SEQUENCE:0
LAST-MODIFIED:20170328T204812Z
SUMMARY:Cerimônia de inauguração da 1ª etapa do Estaleiro de Construção de Submarinos - conclusão do prédio principal
LOCATION:Estaleiro e Base Naval - Área Sul - Estrada José Miranda Oliveira\, s/nº - Ilha da Madeira - Itaguaí/RJ
PRIORITY:3
TRANSP:0
END:VEVENT
END:VCALENDAR
