BEGIN:VCALENDAR
PRODID:brasil.gov.agenda
VERSION:1.0
BEGIN:VEVENT
DTSTART:20141212T212000Z
DTEND:20141212T213000Z
DCREATED:20141211T232549Z
UID:Compromisso-8fdd248c839042328c618d843683a637
SEQUENCE:0
LAST-MODIFIED:20170328T204812Z
SUMMARY:Chegada a Porto Alegre/RS
LOCATION:Aeroporto Salgado Filho
PRIORITY:3
TRANSP:0
END:VEVENT
END:VCALENDAR
