BEGIN:VCALENDAR
PRODID:brasil.gov.agenda
VERSION:1.0
BEGIN:VEVENT
DTSTART:20141212T193000Z
DTEND:20141212T194000Z
DCREATED:20141211T232500Z
UID:Compromisso-d9df259e36554eb899ee05aca416dced
SEQUENCE:0
LAST-MODIFIED:20170328T204812Z
SUMMARY:Partida para Porto Alegre
LOCATION:Base Aérea de Santa Cruz
PRIORITY:3
TRANSP:0
END:VEVENT
END:VCALENDAR
