BEGIN:VCALENDAR
PRODID:brasil.gov.agenda
VERSION:1.0
BEGIN:VEVENT
DTSTART:20141212T154500Z
DTEND:20141212T155500Z
DCREATED:20141211T232412Z
UID:Compromisso-c208cbf2c68f49c3a987f1a3cecc4791
SEQUENCE:0
LAST-MODIFIED:20170328T204812Z
SUMMARY:Visita ao Centro Integrado de Educação Pública - CIEP - Apresentação do Programa Piraí Digital
LOCATION:CIEP - Rua Bulhões de Carvalho\, nº 105 - Piraí/RJ
PRIORITY:3
TRANSP:0
END:VEVENT
END:VCALENDAR
