BEGIN:VCALENDAR
PRODID:brasil.gov.agenda
VERSION:1.0
BEGIN:VEVENT
DTSTART:20141215T170000Z
DTEND:20141215T171000Z
DCREATED:20141212T235541Z
UID:Compromisso-970381550a604a67b6850b5c9e005eef
SEQUENCE:0
LAST-MODIFIED:20170328T204813Z
SUMMARY:Representantes do Movimento dos Trabalhadores Sem Terra - MST
LOCATION:Palácio do Planalto
PRIORITY:3
TRANSP:0
END:VEVENT
END:VCALENDAR
