BEGIN:VCALENDAR
PRODID:brasil.gov.agenda
VERSION:1.0
BEGIN:VEVENT
DTSTART:20141215T213000Z
DTEND:20141215T214000Z
DCREATED:20141212T235748Z
UID:Compromisso-816cc21690e74ab5a0ae2accc64bd420
SEQUENCE:0
LAST-MODIFIED:20170328T204813Z
SUMMARY:Solenidade de posse da Diretoria e Conselho Fiscal eleitos da Confederação da Agricultura e Pecuária do Brasil - CNA - triênio 2014-2017
LOCATION:SGAN Quadra 601 - Módulo K - Ed. Antônio Ernesto de Salvo - Brasília/DF
PRIORITY:3
TRANSP:0
END:VEVENT
END:VCALENDAR
