BEGIN:VCALENDAR
PRODID:brasil.gov.agenda
VERSION:1.0
BEGIN:VEVENT
DTSTART:20141216T143000Z
DTEND:20141216T144000Z
DCREATED:20141215T232250Z
UID:Compromisso-98ff5eda1d7f4123a968f05daa561ab8
SEQUENCE:0
LAST-MODIFIED:20170328T204814Z
SUMMARY:Almoço de confraternização com os Oficiais-Generais das Forças Armadas
LOCATION:Clube da Aeronáutica - SCEN\, Trecho 1\, Asa Norte - Brasília/DF
PRIORITY:3
TRANSP:0
END:VEVENT
END:VCALENDAR
