BEGIN:VCALENDAR
PRODID:brasil.gov.agenda
VERSION:1.0
BEGIN:VEVENT
DTSTART:20141216T130000Z
DTEND:20141216T131000Z
DCREATED:20141215T232106Z
UID:Compromisso-e52b09f1bcf14fd8ba243d94851b24d2
SEQUENCE:0
LAST-MODIFIED:20170328T204813Z
SUMMARY:Apresentação de Oficiais-Generais promovidos
LOCATION:Palácio do Planalto
PRIORITY:3
TRANSP:0
END:VEVENT
END:VCALENDAR
