BEGIN:VCALENDAR
PRODID:brasil.gov.agenda
VERSION:1.0
BEGIN:VEVENT
DTSTART:20141217T180000Z
DTEND:20141217T181000Z
DCREATED:20141217T004629Z
UID:Compromisso-01666f751acc43ae8cefe9c2acb3453e
SEQUENCE:0
LAST-MODIFIED:20170328T204814Z
SUMMARY:Partida para Brasília
LOCATION:Aeroporto de Paraná General Justo José de Urquiza - II Brigada Aérea
PRIORITY:3
TRANSP:0
END:VEVENT
END:VCALENDAR
