BEGIN:VCALENDAR
PRODID:brasil.gov.agenda
VERSION:1.0
BEGIN:VEVENT
DTSTART:20141217T130000Z
DTEND:20141217T131000Z
DCREATED:20141217T004328Z
UID:Compromisso-1f7b7ea6e73245edafdb0610b26a9532
SEQUENCE:0
LAST-MODIFIED:20170328T204814Z
SUMMARY:Cerimônia de Abertura da XLVII Cúpula do Mercosul e Estados Associados
LOCATION:Centro Cultural y de Convenciones de Entre Ríos\, Rua Gregoria Matorras de San Martin\, 861 - Paraná
PRIORITY:3
TRANSP:0
END:VEVENT
END:VCALENDAR
