BEGIN:VCALENDAR
PRODID:brasil.gov.agenda
VERSION:1.0
BEGIN:VEVENT
DTSTART:20141217T220000Z
DTEND:20141217T221000Z
DCREATED:20141217T215304Z
UID:Compromisso-4bca976006a14aa1bfed782bbd295c22
SEQUENCE:0
LAST-MODIFIED:20170328T204814Z
SUMMARY:Chegada a Brasília/DF
LOCATION:Base Aérea de Brasília
PRIORITY:3
TRANSP:0
END:VEVENT
END:VCALENDAR
