BEGIN:VCALENDAR
PRODID:brasil.gov.agenda
VERSION:1.0
BEGIN:VEVENT
DTSTART:20141217T153000Z
DTEND:20141217T154000Z
DCREATED:20141217T004533Z
UID:Compromisso-396f80578f3a4383abb48c839f1f1a44
SEQUENCE:0
LAST-MODIFIED:20170328T204814Z
SUMMARY:Almoço de trabalho dos Chefes de Estado do Mercosul
LOCATION:Vieja Usina
PRIORITY:3
TRANSP:0
END:VEVENT
END:VCALENDAR
