BEGIN:VCALENDAR
PRODID:brasil.gov.agenda
VERSION:1.0
BEGIN:VEVENT
DTSTART:20141217T120000Z
DTEND:20141217T121000Z
DCREATED:20141217T004120Z
UID:Compromisso-71b0796c8fca4efabc512888ca8ae7c0
SEQUENCE:0
LAST-MODIFIED:20170328T204814Z
SUMMARY:Chegada a Paraná\, Província de Entre Ríos
LOCATION:Aeroporto de Paraná General Justo José de Urquiza - II Brigada Aérea
PRIORITY:3
TRANSP:0
END:VEVENT
END:VCALENDAR
