BEGIN:VCALENDAR
PRODID:brasil.gov.agenda
VERSION:1.0
BEGIN:VEVENT
DTSTART:20141217T152000Z
DTEND:20141217T153000Z
DCREATED:20141217T004446Z
UID:Compromisso-429c043f663e4f16aa08efbadc31cf30
SEQUENCE:0
LAST-MODIFIED:20170328T204814Z
SUMMARY:Fotografia Oficial
PRIORITY:3
TRANSP:0
END:VEVENT
END:VCALENDAR
