BEGIN:VCALENDAR
PRODID:brasil.gov.agenda
VERSION:1.0
BEGIN:VEVENT
DTSTART:20141217T113000Z
DTEND:20141217T114000Z
DCREATED:20141217T003925Z
UID:Compromisso-1fd5d7fa9b7241ff960d7c638e8d47bc
SEQUENCE:0
LAST-MODIFIED:20170328T204814Z
SUMMARY:Partida para Paraná\, Província de Entre Ríos/Argentina
LOCATION:Aeroporto Salgado Filho - Porto Alegre/RS
PRIORITY:3
TRANSP:0
END:VEVENT
END:VCALENDAR
