BEGIN:VCALENDAR
PRODID:brasil.gov.agenda
VERSION:1.0
BEGIN:VEVENT
DTSTART:20141218T210000Z
DTEND:20141218T211000Z
DCREATED:20141217T235410Z
UID:Compromisso-a560ca575af2420baad97f373678f1f7
SEQUENCE:0
LAST-MODIFIED:20170328T204815Z
SUMMARY:Solenidade de diplomação da Excelentíssima Senhora Presidenta da República e do Excelentíssimo Senhor Vice-Presidente da República
LOCATION:Auditório do Tribunal Superior Eleitoral-TSE\, SAFS\, Quadra 7\, lotes 1 e 2 - Brasília/DF
PRIORITY:3
TRANSP:0
END:VEVENT
END:VCALENDAR
