BEGIN:VCALENDAR
PRODID:brasil.gov.agenda
VERSION:1.0
BEGIN:VEVENT
DTSTART:20141219T170000Z
DTEND:20141219T020000Z
DCREATED:20141219T171410Z
UID:Compromisso-3300a828b93c4d298855a4243229bd04
SEQUENCE:0
LAST-MODIFIED:20170328T204815Z
SUMMARY:Aloizio Mercadante
LOCATION:Palácio do Planalto
PRIORITY:3
TRANSP:0
END:VEVENT
END:VCALENDAR
