BEGIN:VCALENDAR
PRODID:brasil.gov.agenda
VERSION:1.0
BEGIN:VEVENT
DTSTART:20141219T120000Z
DTEND:20141219T020000Z
DCREATED:20141218T232032Z
UID:Compromisso-dcbaed1b73f341b5a9892681728be008
SEQUENCE:0
LAST-MODIFIED:20170328T204815Z
SUMMARY:Guido Mantega
LOCATION:Palácio do Planalto
PRIORITY:3
TRANSP:0
END:VEVENT
END:VCALENDAR
