BEGIN:VCALENDAR
PRODID:brasil.gov.agenda
VERSION:1.0
BEGIN:VEVENT
DTSTART:20141223T140000Z
DTEND:20141223T141000Z
DCREATED:20141223T001304Z
UID:Compromisso-b0c7f049f57844c99bd97cfc6021b6aa
SEQUENCE:0
LAST-MODIFIED:20170328T204816Z
SUMMARY:Confraternização de Natal
LOCATION:Palácio da Alvorada
PRIORITY:3
TRANSP:0
END:VEVENT
END:VCALENDAR
