BEGIN:VCALENDAR
PRODID:brasil.gov.agenda
VERSION:1.0
BEGIN:VEVENT
DTSTART:20141230T020000Z
DTEND:20141230T020000Z
DCREATED:20141229T221650Z
UID:Compromisso-e4e40dc7b7be48e09001e55bc5080655
SEQUENCE:0
LAST-MODIFIED:20170328T204816Z
SUMMARY:Despachos internos
PRIORITY:3
TRANSP:0
END:VEVENT
END:VCALENDAR
