BEGIN:VCALENDAR
PRODID:brasil.gov.agenda
VERSION:1.0
BEGIN:VEVENT
DTSTART:20141231T110000Z
DTEND:20141231T020000Z
DCREATED:20141230T223136Z
UID:Compromisso-515f5bd4ca144ff2b9561c7b4f616779
SEQUENCE:0
LAST-MODIFIED:20170328T204816Z
SUMMARY:Despachos internos
PRIORITY:3
TRANSP:0
END:VEVENT
END:VCALENDAR
