BEGIN:VCALENDAR
PRODID:brasil.gov.agenda
VERSION:1.0
BEGIN:VEVENT
DTSTART:20150101T190000Z
DTEND:20150101T020000Z
DCREATED:20141231T155548Z
UID:Compromisso-8fba49e7bae64ed184abaea5aea35303
SEQUENCE:0
LAST-MODIFIED:20170328T204817Z
SUMMARY:Cerimônia de nomeação dos ministros de estado
LOCATION:Palácio do Planalto - 2º andar
PRIORITY:3
TRANSP:0
END:VEVENT
END:VCALENDAR
