BEGIN:VCALENDAR
PRODID:brasil.gov.agenda
VERSION:1.0
BEGIN:VEVENT
DTSTART:20150101T170000Z
DTEND:20150101T020000Z
DCREATED:20141231T155242Z
UID:Compromisso-34aac09b2c5048878888eb11a37531ba
SEQUENCE:0
LAST-MODIFIED:20170328T204817Z
SUMMARY:Compromisso constitucional perante o Congresso Nacional
LOCATION:Congresso Nacional - Plenário da Câmara dos Deputados
PRIORITY:3
TRANSP:0
END:VEVENT
END:VCALENDAR
