BEGIN:VCALENDAR
PRODID:brasil.gov.agenda
VERSION:1.0
BEGIN:VEVENT
DTSTART:20150101T184500Z
DTEND:20150101T020000Z
DCREATED:20141231T155454Z
UID:Compromisso-9f5067a3cba149a3ac8d3b430e00934e
SEQUENCE:0
LAST-MODIFIED:20170328T204817Z
SUMMARY:Cumprimentos dos Chefes de Estado e de Governo
LOCATION:Palácio do Planalto - 2º andar
PRIORITY:3
TRANSP:0
END:VEVENT
END:VCALENDAR
