BEGIN:VCALENDAR
PRODID:brasil.gov.agenda
VERSION:1.0
BEGIN:VEVENT
DTSTART:20150101T164500Z
DTEND:20150101T020000Z
DCREATED:20141231T155016Z
UID:Compromisso-9c0aa0397d314659864e68b3d076633b
SEQUENCE:0
LAST-MODIFIED:20170328T204817Z
SUMMARY:Desfile em carro aberto
LOCATION:Catedral Metropolitana de Brasília - Congresso Nacional
PRIORITY:3
TRANSP:0
END:VEVENT
END:VCALENDAR
