BEGIN:VCALENDAR
PRODID:brasil.gov.agenda
VERSION:1.0
BEGIN:VEVENT
DTSTART:20150101T193000Z
DTEND:20150101T020000Z
DCREATED:20141231T155645Z
UID:Compromisso-1db7d7cf568546e98d30af1ffb349ae2
SEQUENCE:0
LAST-MODIFIED:20170328T204817Z
SUMMARY:Fotografia Oficial
LOCATION:Palácio do Planalto - 2º andar
PRIORITY:3
TRANSP:0
END:VEVENT
END:VCALENDAR
