BEGIN:VCALENDAR
PRODID:brasil.gov.agenda
VERSION:1.0
BEGIN:VEVENT
DTSTART:20150101T204500Z
DTEND:20150101T020000Z
DCREATED:20141231T160039Z
UID:Compromisso-42427f728969414fb20483d6f2a9679b
SEQUENCE:0
LAST-MODIFIED:20170328T204817Z
SUMMARY:Irina Bokova
LOCATION:Palácio Itamaraty
PRIORITY:3
TRANSP:0
END:VEVENT
END:VCALENDAR
