BEGIN:VCALENDAR
PRODID:brasil.gov.agenda
VERSION:1.0
BEGIN:VEVENT
DTSTART:20150101T183000Z
DTEND:20150101T020000Z
DCREATED:20141231T155348Z
UID:Compromisso-cca16f660fbd401e9cc4c3035edeef7c
SEQUENCE:0
LAST-MODIFIED:20170328T204817Z
SUMMARY:Pronunciamento à população
LOCATION:Palácio do Planalto - Parlatório
PRIORITY:3
TRANSP:0
END:VEVENT
END:VCALENDAR
