BEGIN:VCALENDAR
PRODID:brasil.gov.agenda
VERSION:1.0
BEGIN:VEVENT
DTSTART:20150101T203000Z
DTEND:20150101T020000Z
DCREATED:20141231T155735Z
UID:Compromisso-b35343a47d854cd4b1a8dd7a93ab58ce
SEQUENCE:0
LAST-MODIFIED:20170328T204817Z
SUMMARY:Recepção no Palácio Itamaraty
LOCATION:Palácio Itamaraty
PRIORITY:3
TRANSP:0
END:VEVENT
END:VCALENDAR
