BEGIN:VCALENDAR
PRODID:brasil.gov.agenda
VERSION:1.0
BEGIN:VEVENT
DTSTART:20150102T130000Z
DTEND:20150102T131000Z
DCREATED:20150101T213928Z
UID:Compromisso-000dfb8bf80846019cb38007aed54e54
SEQUENCE:0
LAST-MODIFIED:20170328T204818Z
SUMMARY:Li Yuanchao
LOCATION:Palácio do Planalto
PRIORITY:3
TRANSP:0
END:VEVENT
END:VCALENDAR
