BEGIN:VCALENDAR
PRODID:brasil.gov.agenda
VERSION:1.0
BEGIN:VEVENT
DTSTART:20150102T140000Z
DTEND:20150102T141000Z
DCREATED:20150101T214048Z
UID:Compromisso-15bc141f2f2c455f8612f07da7a0d1e0
SEQUENCE:0
LAST-MODIFIED:20170328T204818Z
SUMMARY:Mário José Vaz
LOCATION:Palácio do Planalto
PRIORITY:3
TRANSP:0
END:VEVENT
END:VCALENDAR
