BEGIN:VCALENDAR
PRODID:brasil.gov.agenda
VERSION:1.0
BEGIN:VEVENT
DTSTART:20150102T120000Z
DTEND:20150102T121000Z
DCREATED:20150101T213701Z
UID:Compromisso-a8e91f41f92f46b285de1cb6e34a9958
SEQUENCE:0
LAST-MODIFIED:20170328T204818Z
SUMMARY:Nicolás Maduro
LOCATION:Palácio do Planalto
PRIORITY:3
TRANSP:0
END:VEVENT
END:VCALENDAR
