BEGIN:VCALENDAR
PRODID:brasil.gov.agenda
VERSION:1.0
BEGIN:VEVENT
DTSTART:20150102T123000Z
DTEND:20150102T124000Z
DCREATED:20150101T213809Z
UID:Compromisso-a8a7317a1db34588a42dd67abba66cdc
SEQUENCE:0
LAST-MODIFIED:20170328T204818Z
SUMMARY:Stefan Lofven
LOCATION:Palácio do Planalto
PRIORITY:3
TRANSP:0
END:VEVENT
END:VCALENDAR
