BEGIN:VCALENDAR
PRODID:brasil.gov.agenda
VERSION:1.0
BEGIN:VEVENT
DTSTART:20150107T113000Z
DTEND:20150107T020000Z
DCREATED:20150106T232155Z
UID:Compromisso-f59f83eff669430fba9dbb51e9b353e8
SEQUENCE:0
LAST-MODIFIED:20170328T204819Z
SUMMARY:Jaques Wagner
LOCATION:Palácio do Planalto
PRIORITY:3
TRANSP:0
END:VEVENT
END:VCALENDAR
