BEGIN:VCALENDAR
PRODID:brasil.gov.agenda
VERSION:1.0
BEGIN:VEVENT
DTSTART:20150107T193000Z
DTEND:20150107T194000Z
DCREATED:20150107T212530Z
UID:Compromisso-fae2b012a6384db9a97fe5c195ce3367
SEQUENCE:0
LAST-MODIFIED:20170328T204819Z
SUMMARY:Jaques Wagner
LOCATION:Palácio do Planalto
PRIORITY:3
TRANSP:0
END:VEVENT
END:VCALENDAR
