BEGIN:VCALENDAR
PRODID:brasil.gov.agenda
VERSION:1.0
BEGIN:VEVENT
DTSTART:20150107T170000Z
DTEND:20150107T171000Z
DCREATED:20150107T212231Z
UID:Compromisso-ed7c4d539c2e4fd7bd572c71605c0ccc
SEQUENCE:0
LAST-MODIFIED:20170328T204819Z
SUMMARY:Miguel Rossetto
LOCATION:Palácio do Planalto
PRIORITY:3
TRANSP:0
END:VEVENT
END:VCALENDAR
