BEGIN:VCALENDAR
PRODID:brasil.gov.agenda
VERSION:1.0
BEGIN:VEVENT
DTSTART:20150107T180000Z
DTEND:20150107T181000Z
DCREATED:20150107T212358Z
UID:Compromisso-d5b40ca9aaf9457c9ed3edd124cbce0f
SEQUENCE:0
LAST-MODIFIED:20170328T204819Z
SUMMARY:Rui Falcão
LOCATION:Palácio do Planalto
PRIORITY:3
TRANSP:0
END:VEVENT
END:VCALENDAR
