BEGIN:VCALENDAR
PRODID:brasil.gov.agenda
VERSION:1.0
BEGIN:VEVENT
DTSTART:20150108T170000Z
DTEND:20150108T020000Z
DCREATED:20150108T131240Z
UID:Compromisso-7e5934e522694e53802bc7d4d9778e2b
SEQUENCE:0
LAST-MODIFIED:20170328T204819Z
SUMMARY:Clóvis Tramontina
LOCATION:Palácio do Planalto
PRIORITY:3
TRANSP:0
END:VEVENT
END:VCALENDAR
