BEGIN:VCALENDAR
PRODID:brasil.gov.agenda
VERSION:1.0
BEGIN:VEVENT
DTSTART:20150108T183000Z
DTEND:20150108T184000Z
DCREATED:20150108T192902Z
UID:Compromisso-3e9d48d6a0f74389b72fb229e206de61
SEQUENCE:0
LAST-MODIFIED:20170328T204819Z
SUMMARY:Eduardo Braga
LOCATION:Palácio do Planalto
PRIORITY:3
TRANSP:0
END:VEVENT
END:VCALENDAR
