BEGIN:VCALENDAR
PRODID:brasil.gov.agenda
VERSION:1.0
BEGIN:VEVENT
DTSTART:20150108T200000Z
DTEND:20150108T201000Z
DCREATED:20150108T222323Z
UID:Compromisso-93e15bad0d914427be1864d070b9371f
SEQUENCE:0
LAST-MODIFIED:20170328T204820Z
SUMMARY:Guilherme Afif Domingos
LOCATION:Palácio do Planalto
PRIORITY:3
TRANSP:0
END:VEVENT
END:VCALENDAR
